BEGIN:VCALENDAR
VERSION:2.0
PRODID:-//MikroTik Training GR - ECPv6.15.11//NONSGML v1.0//EN
CALSCALE:GREGORIAN
METHOD:PUBLISH
X-WR-CALNAME:MikroTik Training GR
X-ORIGINAL-URL:https://mikrotiktraining.gr
X-WR-CALDESC:Events for MikroTik Training GR
REFRESH-INTERVAL;VALUE=DURATION:PT1H
X-Robots-Tag:noindex
X-PUBLISHED-TTL:PT1H
BEGIN:VTIMEZONE
TZID:Europe/Athens
BEGIN:DAYLIGHT
TZOFFSETFROM:+0200
TZOFFSETTO:+0300
TZNAME:EEST
DTSTART:20240331T010000
END:DAYLIGHT
BEGIN:STANDARD
TZOFFSETFROM:+0300
TZOFFSETTO:+0200
TZNAME:EET
DTSTART:20241027T010000
END:STANDARD
BEGIN:DAYLIGHT
TZOFFSETFROM:+0200
TZOFFSETTO:+0300
TZNAME:EEST
DTSTART:20250330T010000
END:DAYLIGHT
BEGIN:STANDARD
TZOFFSETFROM:+0300
TZOFFSETTO:+0200
TZNAME:EET
DTSTART:20251026T010000
END:STANDARD
BEGIN:DAYLIGHT
TZOFFSETFROM:+0200
TZOFFSETTO:+0300
TZNAME:EEST
DTSTART:20260329T010000
END:DAYLIGHT
BEGIN:STANDARD
TZOFFSETFROM:+0300
TZOFFSETTO:+0200
TZNAME:EET
DTSTART:20261025T010000
END:STANDARD
END:VTIMEZONE
BEGIN:VEVENT
DTSTART;TZID=Europe/Athens:20251116T090000
DTEND;TZID=Europe/Athens:20251117T170000
DTSTAMP:20260422T012120
CREATED:20240628T161521Z
LAST-MODIFIED:20251004T094423Z
UID:5935-1763283600-1763398800@mikrotiktraining.gr
SUMMARY:MTCRE – MikroTik Certified Routing Engineer (15-16 Νοεμβρίου 2025) Χανιά - Κρήτης
DESCRIPTION:Εγκεκριμένη εκπαίδευση MTCRE στην Ελλάδα. \nΟ στόχος των μαθημάτων είναι να διδαχθεί ύλη\, σχετική με τις λειτουργίες και τα χαρακτηριστικά του RouterOS στην δρομολόγηση. \nΔιάρκεια μαθημάτων  2 ημέρες.\nΗμερομηνίες: 15 \, 16 Νοεμβρίου 2025\nΠρόγραμμα: 09:00 – 17:00\nΤοποθεσία Μαθημάτων: Chania MikroTik Training Center\nΔιαμονή: Δεν περιλαμβάνεται στη τιμή .\nΤιμή: 500 € \nΕισηγητές: Μαραγκουδάκης Σταύρος – Λιοδάκης Ελευθέριος\nΓλώσσα: Ελληνικά \nΣτην τιμή περιλαμβάνεται : \n\n    Συμμετοχή\n    Έντυπο υλικό μαθήματος\n    MikroTik Certificate μετα την επιτυχία απο εξετάσεις\n    MikroTik Marketing Material\n    Φαγητό\n    Καφές\n    Δωρεάν άδεια χρήσης MikroTik RouterOS Level4\n    Δανεικός εξοπλισμός MikroTik για τις ανάγκες του σεμιναρίου\n\nΠροαπαιτούμενα για MTCRE: \n\n    Πιστοποίηση MTCNA\n    To Laptop σας\n\nΣύμφωνα με τη MikroTik το πρόγραμμα της  σειράς των μαθημάτων MTCRE είναι το εξής:\nModule 1: MikroTik RouterOS Static Routing\nModule 2: MikroTik RouterOS Point to Point Addressing\nModule 3: MikroTik RouterOS VPN\nModule 4: Mikrotik RouterOS OSPF \nΛεπτομέρειες:  https://mikrotik.com/download/pdf/MTCRE_Outline.pdf \nΟι εξετάσεις θα πραγματοποιηθούν την τελευταία ημέρα  των μαθημάτων online απο τη MikroTik & θα επιτηρούνται από τον εκπαιδευτή.\nΠερισσότερες πληροφορίες για το συγκεκριμένο event ή μελλοντικά trainings μπορείτε να επικοινωνείτε στα : \nΤηλ : +30 2104511087\, +30 2104523890 Fax : +30 2104523890\nE-mail: sales @ mikrotiktraining.gr\neSHOP: Προϊόντα MikroTik\nΔήλωσε Συμμετοχή
URL:https://mikrotiktraining.gr/event/mtcre-mikrotik-certified-routing-engineer-15-16-noemvriou-2025-chania-kritis/
LOCATION:Chania MikroTik Training Center
CATEGORIES:Training
ATTACH;FMTTYPE=image/png:https://mikrotiktraining.gr/wp-content/uploads/2019/10/MTCRE.png
ORGANIZER;CN="%CE%9C%CE%B1%CF%81%CE%B1%CE%B3%CE%BA%CE%BF%CF%85%CE%B4%CE%AC%CE%BA%CE%B7%CF%82 %CE%A3%CF%84%CE%B1%CF%8D%CF%81%CE%BF%CF%82":MAILTO:sales@www2.mikrotiktraining.gr
END:VEVENT
END:VCALENDAR