BEGIN:VCALENDAR
VERSION:2.0
PRODID:-//MikroTik Training GR - ECPv6.15.11//NONSGML v1.0//EN
CALSCALE:GREGORIAN
METHOD:PUBLISH
X-ORIGINAL-URL:https://mikrotiktraining.gr
X-WR-CALDESC:Events for MikroTik Training GR
REFRESH-INTERVAL;VALUE=DURATION:PT1H
X-Robots-Tag:noindex
X-PUBLISHED-TTL:PT1H
BEGIN:VTIMEZONE
TZID:Europe/Athens
BEGIN:DAYLIGHT
TZOFFSETFROM:+0200
TZOFFSETTO:+0300
TZNAME:EEST
DTSTART:20230326T010000
END:DAYLIGHT
BEGIN:STANDARD
TZOFFSETFROM:+0300
TZOFFSETTO:+0200
TZNAME:EET
DTSTART:20231029T010000
END:STANDARD
BEGIN:DAYLIGHT
TZOFFSETFROM:+0200
TZOFFSETTO:+0300
TZNAME:EEST
DTSTART:20240331T010000
END:DAYLIGHT
BEGIN:STANDARD
TZOFFSETFROM:+0300
TZOFFSETTO:+0200
TZNAME:EET
DTSTART:20241027T010000
END:STANDARD
BEGIN:DAYLIGHT
TZOFFSETFROM:+0200
TZOFFSETTO:+0300
TZNAME:EEST
DTSTART:20250330T010000
END:DAYLIGHT
BEGIN:STANDARD
TZOFFSETFROM:+0300
TZOFFSETTO:+0200
TZNAME:EET
DTSTART:20251026T010000
END:STANDARD
END:VTIMEZONE
BEGIN:VEVENT
DTSTART;TZID=Europe/Athens:20241005T090000
DTEND;TZID=Europe/Athens:20241006T170000
DTSTAMP:20260424T165637
CREATED:20240628T125820Z
LAST-MODIFIED:20240629T120027Z
UID:5897-1728118800-1728234000@mikrotiktraining.gr
SUMMARY:MTCTCE - MikroTik Certified Traffic Control Engineer (5 - 6 Οκτωβρίου 2024) Πειραιάς
DESCRIPTION:Εγκεκριμένη εκπαίδευση MTCTCE στην Ελλάδα. \nΤο πρόγραμμα εκπαίδευσης MikroTik MTCTCE (Πιστοποιημένος Μηχανικός Έλεγχου Κίνησης MikroTik) σχεδιάστηκε για να εξοπλίσει τους επαγγελματίες του δικτύου με τις γνώσεις και δεξιότητες που απαιτούνται για την αποτελεσματική διαχείριση και βελτιστοποίηση της κυκλοφορίας του δικτύου χρησιμοποιώντας συσκευές MikroTik RouterOS. Αυτό το πλήρες πρόγραμμα εκπαίδευσης εξετάζει εις βάθος τεχνικές έλεγχου και διαχείρισης της κυκλοφορίας\, επιτρέποντας στους συμμετέχοντες να αποκτήσουν επάρκεια στην υλοποίηση πολιτικών ποιότητας υπηρεσιών (QoS)\, διαχείρισης εύρους ζώνης και βελτιστοποίησης του δικτύου χρησιμοποιώντας υλικό και λογισμικό MikroTik. \nΣτόχοι της Εκπαίδευσης MikroTik MTCTCE: \n\nΚυριαρχία στο MikroTik RouterOS: Αποκτήστε μια βαθιά κατανόηση του MikroTik RouterOS\, των χαρακτηριστικών του και των δυνατοτήτων του για να αξιοποιήσετε το πλήρες δυναμικό των συσκευών δικτύου MikroTik.\nΠροηγμένος Έλεγχος Κυκλοφορίας: Μάθετε προηγμένες τεχνικές ελέγχου κυκλοφορίας\, όπως διαμόρφωση της κυκλοφορίας\, προτεραιοποίηση και σήμανση πακέτων\, για να διασφαλίσετε βέλτιστη απόδοση του δικτύου και ποιότητα υπηρεσιών.\nΠοιότητα Υπηρεσιών (QoS): Αναπτύξτε εμπειρία στο σχεδιασμό και την υλοποίηση πολιτικών QoS για την προτεραιοποίηση κρίσιμων εφαρμογών και υπηρεσιών\, διασφαλίζοντας μια συνεπή και αξιόπιστη εμπειρία χρήστη.\nΔιαχείριση Εύρους Ζώνης: Αποκτήστε δεξιότητες για την αποτελεσματική κατανομή και διαχείριση των διαθέσιμων πόρων εύρους ζώνης\, αποτρέποντας τον συμφόρηση του δικτύου και βελτιστοποιώντας τη συνολική απόδοση.\nΒελτιστοποίηση Δικτύου: Εξερευνήστε μεθόδους για τη βελτιστοποίηση της ροής της κυκλοφορίας του δικτύου\, την ελαχιστοποίηση της καθυστέρησης και την αύξηση της συνολικής αποτελεσματικότητας της υποδομής του δικτύου.\nΤοίχος Προστασίας και Ασφάλεια: Κατανοήστε πώς να διαμορφώνετε κανόνες τοίχου προστασίας και πολιτικές ασφαλείας για την προστασία του δικτύου από μη εξουσιοδοτημένη πρόσβαση και δυνητικές απειλές.\nΠαρακολούθηση και Ανάλυση Κυκλοφορίας: Μάθετε πώς να χρησιμοποιείτε τα εργαλεία της MikroTik για παρακολούθηση της κυκλοφορίας σε πραγματικό χρόνο\, ανάλυση και αναφορές για την επίλυση προβλημάτων και τη λήψη αποφάσεων με βάση τα δεδομένα.\nΕργαστηριακές Άσκησης: Συμμετάσχετε σε πρακτικές εργαστηριακές ασκήσεις και προσομοιώσεις για να εφαρμόσετε θεωρητικές γνώσεις και να αποκτήσετε πρακτική εμπειρία στη διαμόρφωση συσκευών MikroTik για έλεγχο κυκλοφορίας και βελτιστοποίηση.\nΠροετοιμασία για την Πιστοποίηση: Προετοιμαστείτε για τις εξετάσεις πιστοποίησης MikroTik MTCTCE\, οι οποίες επικυρώνουν την εμπειρία σας στον έλεγχο κυκλοφορίας και τη βελτιστοποίηση δικτύου χρησιμοποιώντας το MikroTik RouterOS.\nΠροαγωγή στην Καριέρα: Ενισχύστε τις επαγγελματικές σας δεξιότητες και προοπτικές καριέρας γίνοντας πιστοποιημένος Μηχανικός Έλεγχου Κίνησης MikroTik\, ανοίγοντας τις πόρτες σε συναρπαστικές ευκαιρίες στον τομέα της διαχείρισης και της μηχανικής δικτύων.\n\nΠαραμείνετε Ενημερωμένοι: Μείνετε ενήμεροι για τις τελευταίες τάσεις και εξελίξεις στον τομέα των δικτύων και του ελέγχου κυκλοφορίας\, αξιοποιώντας τους συνεχείς πόρους και ενημερώσεις εκπαίδευσης της MikroTik. \n\n\nΔιάρκεια μαθημάτων  2 ημέρες.\nΗμερομηνίες: 5\, 6 Οκτωβρίου 2024\nΠρόγραμμα: 09:00 – 17:00\nΤοποθεσία Μαθημάτων: HellasCom MikroTik Training Center\nΤρόποι Πληρωμής: Παρέχεται δυνατότητα εξόφλησης με πιστ. καρτα με άτοκες δόσεις ή τραπεζική κατάθεση.\nΔιαμονή: Δεν περιλαμβάνεται στη τιμή .\nΤιμή: 500 € \nΕισηγητές: Μαραγκουδάκης Σταύρος – Λιοδάκης Ελευθέριος\nΓλώσσα: Ελληνικά \nΣτην τιμή περιλαμβάνεται : \n\n   Συμμετοχή\n    Έντυπο υλικό μαθήματος\n    MikroTik Certificate μετα την επιτυχία απο εξετάσεις\n    MikroTik Marketing Material\n    Φαγητό\n    Καφές\n    Δωρεάν άδεια χρήσης MikroTik RouterOS Level4\n    Δανεικός εξοπλισμός MikroTik για τις ανάγκες του σεμιναρίου\n\nΠροαπαιτούμενα για MTCTCE: \n\n    Πιστοποίηση MTCNA\n    To Laptop σας\n\nΣύμφωνα με τη MikroTik το πρόγραμμα της  σειράς των μαθημάτων MTCTCE είναι το εξής:\nModule 1: MikroTik RouterOS Packet Flow Diagram\nModule 2: MikroTik RouterOS Firewall filter/nat/mangle\nModule 3: MikroTik RouterOS Quality of Service\nModule 4: Mikrotik RouterOS DNS client/cache\nModule 5: MikroTik RouterOS DHCP client/relay/server\nModule 6: MikroTik RouterOS Web Proxy \nΛεπτομέρειες:  http://www.mikrotik.com/pdf/MTCTCE_Outline.pdf \nΜε το πέρας της Εκπαίδευσης MikroTik MTCTCE\, οι συμμετέχοντες θα είναι καλά εξοπλισμένοι για τον σχεδιασμό\, την υλοποίηση και τη διαχείριση προηγμένων λύσεων ελέγχου κυκλοφορίας δικτύου χρησιμοποιώντας το MikroTik RouterOS\, συμβάλλοντας στην αποτελεσματική και αξιόπιστη λειτουργία των σύγχρονων δικτύων υποδομής. \nΟι εξετάσεις θα πραγματοποιηθούν την τελευταία ημέρα  των μαθημάτων online από τη MikroTik & θα επιτηρούνται από τον εκπαιδευτή.\nΠερισσότερες πληροφορίες για το συγκεκριμένο event ή μελλοντικά trainings μπορείτε να επικοινωνείτε στα : \nΤηλ : +30 2104511087\, +30 2104523890 Fax : +30 2104523890\nE-mail: sales @ mikrotiktraining.gr\neSHOP: Προϊόντα MikroTik\nΔήλωσε Συμμετοχή
URL:https://mikrotiktraining.gr/event/mtctce-mikrotik-certified-traffic-control-engineer-5-6-oktovriou-2024-peiraias/
LOCATION:HellasCOM MikroTik Training Center\, Αγίου Δημητρίου 41\, Πειραιάς\, Αττική\, 18546\, Greece
CATEGORIES:Training
ATTACH;FMTTYPE=image/png:https://mikrotiktraining.gr/wp-content/uploads/2019/10/MTCTCE.png
ORGANIZER;CN="%CE%9C%CE%B1%CF%81%CE%B1%CE%B3%CE%BA%CE%BF%CF%85%CE%B4%CE%AC%CE%BA%CE%B7%CF%82 %CE%A3%CF%84%CE%B1%CF%8D%CF%81%CE%BF%CF%82":MAILTO:sales@www2.mikrotiktraining.gr
END:VEVENT
END:VCALENDAR